BEGIN:VCALENDAR
PRODID:-//Red Pacto Global Argentina //NONSGML Events //EN
VERSION:2.0
BEGIN:VEVENT
DTSTAMP:20230824T012855Z
STATUS:CONFIRMED
UID:11825
DTSTART:20220429T110000
DTEND:20220429T123000
LOCATION:Virtual
DESCRIPTION:
SUMMARY:18vo aniversario de Pacto Global Argentina: los cambios en la agenda  de la sostenibilidad corporativa
TRANSP:OPAQUE
BEGIN:VALARM
ACTION:DISPLAY
DESCRIPTION:18vo aniversario de Pacto Global Argentina: los cambios en la agenda  de la sostenibilidad corporativa
END:VALARM
END:VEVENT
END:VCALENDAR
