BEGIN:VCALENDAR
PRODID:-//Red Pacto Global Argentina //NONSGML Events //EN
VERSION:2.0
BEGIN:VEVENT
DTSTAMP:20230824T012857Z
STATUS:CONFIRMED
UID:11827
DTSTART:20220927T140000
DTEND:20220927T170000
LOCATION:Virtual
DESCRIPTION:Renovación de Mesa Directiva<br />

SUMMARY:8va. Asamblea de la Red Argentina del Pacto Global
TRANSP:OPAQUE
BEGIN:VALARM
ACTION:DISPLAY
DESCRIPTION:8va. Asamblea de la Red Argentina del Pacto Global
END:VALARM
END:VEVENT
END:VCALENDAR
