BEGIN:VCALENDAR
PRODID:-//Red Pacto Global Argentina //NONSGML Events //EN
VERSION:2.0
BEGIN:VEVENT
DTSTAMP:20230824T012848Z
STATUS:CONFIRMED
UID:11829
DTSTART:20220601T080000
DTEND:20220601T180000
LOCATION:Virtual
DESCRIPTION:Evento internacional - Día 1<br />

SUMMARY:Cumbre de Líderes – Leaders Summit 2022
TRANSP:OPAQUE
BEGIN:VALARM
ACTION:DISPLAY
DESCRIPTION:Cumbre de Líderes &#8211\; Leaders Summit 2022
END:VALARM
END:VEVENT
END:VCALENDAR
