BEGIN:VCALENDAR
PRODID:-//Red Pacto Global Argentina //NONSGML Events //EN
VERSION:2.0
BEGIN:VEVENT
DTSTAMP:20230824T013007Z
STATUS:CONFIRMED
UID:11832
DTSTART:20220602T080000
DTEND:20220602T180000
LOCATION:Virtual
DESCRIPTION:Evento internacional - Día 2
SUMMARY:Cumbre de Líderes – Leaders Summit 2022
TRANSP:OPAQUE
BEGIN:VALARM
ACTION:DISPLAY
DESCRIPTION:Cumbre de Líderes – Leaders Summit 2022
END:VALARM
END:VEVENT
END:VCALENDAR
