BEGIN:VCALENDAR
PRODID:-//Red Pacto Global Argentina //NONSGML Events //EN
VERSION:2.0
BEGIN:VEVENT
DTSTAMP:20230824T013346Z
STATUS:CONFIRMED
UID:11834
DTSTART:20220919T080000
DTEND:20220919T180000
LOCATION:Virtual
DESCRIPTION:Evento internacional: New York, USA - Día 1
SUMMARY:Uniendo Negocios – Uniting Business LIVE 2022
TRANSP:OPAQUE
BEGIN:VALARM
ACTION:DISPLAY
DESCRIPTION:Uniendo Negocios &#8211\; Uniting Business LIVE 2022
END:VALARM
END:VEVENT
END:VCALENDAR
