BEGIN:VCALENDAR
PRODID:-//Red Pacto Global Argentina //NONSGML Events //EN
VERSION:2.0
BEGIN:VEVENT
DTSTAMP:20230824T013353Z
STATUS:CONFIRMED
UID:11836
DTSTART:20220920T080000
DTEND:20220920T180000
LOCATION:Virtual
DESCRIPTION:Evento internacional: New York, USA - Día 2
SUMMARY:Uniendo Negocios – Uniting Business LIVE 2022
TRANSP:OPAQUE
BEGIN:VALARM
ACTION:DISPLAY
DESCRIPTION:Uniendo Negocios – Uniting Business LIVE 2022
END:VALARM
END:VEVENT
END:VCALENDAR
