BEGIN:VCALENDAR
PRODID:-//Red Pacto Global Argentina //NONSGML Events //EN
VERSION:2.0
BEGIN:VEVENT
DTSTAMP:20230824T012713Z
STATUS:CONFIRMED
UID:11840
DTSTART:20220921T080000
DTEND:20220921T180000
LOCATION:Virtual
DESCRIPTION:Evento internacional: New York, USA - Día 3
SUMMARY:Uniendo Negocios – Uniting Business LIVE 2022
TRANSP:OPAQUE
BEGIN:VALARM
ACTION:DISPLAY
DESCRIPTION:Uniendo Negocios – Uniting Business LIVE 2022
END:VALARM
END:VEVENT
END:VCALENDAR
