BEGIN:VCALENDAR
PRODID:-//Red Pacto Global Argentina //NONSGML Events //EN
VERSION:2.0
BEGIN:VEVENT
DTSTAMP:20230824T013302Z
STATUS:CONFIRMED
UID:11848
DTSTART:20220413T100000
DTEND:20220413T110000
LOCATION:Virtual
DESCRIPTION:Propuesta de Valor 2022<br />
<br />

SUMMARY:Primer Webinario Abierto Empresas por un Mundo Mejor
TRANSP:OPAQUE
BEGIN:VALARM
ACTION:DISPLAY
DESCRIPTION:Primer Webinario Abierto Empresas por un Mundo Mejor
END:VALARM
END:VEVENT
END:VCALENDAR
