BEGIN:VCALENDAR
PRODID:-//Red Pacto Global Argentina //NONSGML Events //EN
VERSION:2.0
BEGIN:VEVENT
DTSTAMP:20230824T012814Z
STATUS:CONFIRMED
UID:11900
DTSTART:20220406T160000
DTEND:20220406T170000
LOCATION:Virtual
DESCRIPTION:
SUMMARY:Seminario Web Objetivos basados en ciencia: Actualización e introducción a los objetivos de emisiones netas cero
TRANSP:OPAQUE
BEGIN:VALARM
ACTION:DISPLAY
DESCRIPTION:Seminario Web Objetivos basados en ciencia: Actualización e introducción a los objetivos de emisiones netas cero
END:VALARM
END:VEVENT
END:VCALENDAR
