BEGIN:VCALENDAR
PRODID:-//Red Pacto Global Argentina //NONSGML Events //EN
VERSION:2.0
BEGIN:VEVENT
DTSTAMP:20230824T013359Z
STATUS:CONFIRMED
UID:11906
DTSTART:20220407T120000
DTEND:20220407T130000
LOCATION:Virtual
DESCRIPTION:
SUMMARY:Seminario Web Objetivos basados en ciencia: Profundización en los objetivos de emisiones netas cero
TRANSP:OPAQUE
BEGIN:VALARM
ACTION:DISPLAY
DESCRIPTION:Seminario Web Objetivos basados en ciencia: Profundización en los objetivos de emisiones netas cero
END:VALARM
END:VEVENT
END:VCALENDAR
