BEGIN:VCALENDAR
PRODID:-//Red Pacto Global Argentina //NONSGML Events //EN
VERSION:2.0
BEGIN:VEVENT
DTSTAMP:20230824T012800Z
STATUS:CONFIRMED
UID:11910
DTSTART:20220413T160000
DTEND:20220413T170000
LOCATION:Virtual
DESCRIPTION:
SUMMARY:Seminario Web Objetivos basados en ciencia: Intercambio de experiencias SBTs: la experiencia de las empresas latinoamericanas con objetivos basados en ciencia
TRANSP:OPAQUE
BEGIN:VALARM
ACTION:DISPLAY
DESCRIPTION:Seminario Web Objetivos basados en ciencia: Intercambio de experiencias SBTs: la experiencia de las empresas latinoamericanas con objetivos basados en ciencia
END:VALARM
END:VEVENT
END:VCALENDAR
