BEGIN:VCALENDAR
PRODID:-//Red Pacto Global Argentina //NONSGML Events //EN
VERSION:2.0
BEGIN:VEVENT
DTSTAMP:20230824T012756Z
STATUS:CONFIRMED
UID:11913
DTSTART:20220426T130000
DTEND:20220426T140000
LOCATION:Virtual
DESCRIPTION:
SUMMARY:Seminario Web Objetivos basados en ciencia: Intercambio de experiencias SBTs – Instituciones Financieras
TRANSP:OPAQUE
BEGIN:VALARM
ACTION:DISPLAY
DESCRIPTION:Seminario Web Objetivos basados en ciencia: Intercambio de experiencias SBTs – Instituciones Financieras
END:VALARM
END:VEVENT
END:VCALENDAR
