BEGIN:VCALENDAR
PRODID:-//Red Pacto Global Argentina //NONSGML Events //EN
VERSION:2.0
BEGIN:VEVENT
DTSTAMP:20230824T012748Z
STATUS:CONFIRMED
UID:11939
DTSTART:20220513T090000
DTEND:20220513T120000
LOCATION:Virtual
DESCRIPTION:1era clase de la 2da edición del Programa <br />
<br />

SUMMARY:Programa de Formación Ejecutiva Economía Circular y Objetivos de Desarrollo Sostenible
TRANSP:OPAQUE
BEGIN:VALARM
ACTION:DISPLAY
DESCRIPTION:Programa de Formación Ejecutiva Economía Circular y Objetivos de Desarrollo Sostenible
END:VALARM
END:VEVENT
END:VCALENDAR
