BEGIN:VCALENDAR
PRODID:-//Red Pacto Global Argentina //NONSGML Events //EN
VERSION:2.0
BEGIN:VEVENT
DTSTAMP:20230824T012747Z
STATUS:CONFIRMED
UID:11948
DTSTART:20220527T090000
DTEND:20220527T120000
LOCATION:Virtual
DESCRIPTION:3era clase de la 2da edición del Programa<br />

SUMMARY:Programa de Formación Ejecutiva Economía Circular y Objetivos de Desarrollo Sostenible
TRANSP:OPAQUE
BEGIN:VALARM
ACTION:DISPLAY
DESCRIPTION:Programa de Formación Ejecutiva Economía Circular y Objetivos de Desarrollo Sostenible
END:VALARM
END:VEVENT
END:VCALENDAR
