BEGIN:VCALENDAR
PRODID:-//Red Pacto Global Argentina //NONSGML Events //EN
VERSION:2.0
BEGIN:VEVENT
DTSTAMP:20230824T012958Z
STATUS:CONFIRMED
UID:11950
DTSTART:20220603T090000
DTEND:20220603T120000
LOCATION:Virtual
DESCRIPTION:4ta clase de la 2da edición del Programa<br />
<br />

SUMMARY:Programa de Formación Ejecutiva Economía Circular y Objetivos de Desarrollo Sostenible
TRANSP:OPAQUE
BEGIN:VALARM
ACTION:DISPLAY
DESCRIPTION:Programa de Formación Ejecutiva Economía Circular y Objetivos de Desarrollo Sostenible
END:VALARM
END:VEVENT
END:VCALENDAR
