BEGIN:VCALENDAR
PRODID:-//Red Pacto Global Argentina //NONSGML Events //EN
VERSION:2.0
BEGIN:VEVENT
DTSTAMP:20230824T012755Z
STATUS:CONFIRMED
UID:11952
DTSTART:20220610T090000
DTEND:20220610T120000
LOCATION:Virtual
DESCRIPTION:5ta clase de la 2da edición del Programa<br />

SUMMARY:Programa de Formación Ejecutiva Economía Circular y Objetivos de Desarrollo Sostenible
TRANSP:OPAQUE
BEGIN:VALARM
ACTION:DISPLAY
DESCRIPTION:Programa de Formación Ejecutiva Economía Circular y Objetivos de Desarrollo Sostenible
END:VALARM
END:VEVENT
END:VCALENDAR
