BEGIN:VCALENDAR
PRODID:-//Red Pacto Global Argentina //NONSGML Events //EN
VERSION:2.0
BEGIN:VEVENT
DTSTAMP:20230824T013251Z
STATUS:CONFIRMED
UID:11964
DTSTART:20220419T160000
DTEND:20220419T170000
LOCATION:Virtual
DESCRIPTION:
SUMMARY:Webinar para el sector privado: diálogos nacionales rumbo a Estocolmo+50
TRANSP:OPAQUE
BEGIN:VALARM
ACTION:DISPLAY
DESCRIPTION:Webinar para el sector privado: diálogos nacionales rumbo a Estocolmo+50
END:VALARM
END:VEVENT
END:VCALENDAR
