BEGIN:VCALENDAR
PRODID:-//Red Pacto Global Argentina //NONSGML Events //EN
VERSION:2.0
BEGIN:VEVENT
DTSTAMP:20230824T013357Z
STATUS:CONFIRMED
UID:12022
DTSTART:20220427T120000
DTEND:20220427T130000
LOCATION:Virtual
DESCRIPTION:El Pacto Global de Naciones Unidas y la Oficina del Alto Comisionado de Naciones Unidas para Derechos Humanos  te invitan al <br />
Lanzamiento de la herramienta de análisis de brechas: normas de conducta empresarial para prevenir la discriminación de las personas LGBTIQ+<br />
<br />

SUMMARY:Lanzamiento de herramienta LGBTIQ+: ¿Qué está haciendo su empresa para respetar los derechos de las personas LGBTIQ+?
TRANSP:OPAQUE
BEGIN:VALARM
ACTION:DISPLAY
DESCRIPTION:Lanzamiento de herramienta LGBTIQ+: ¿Qué está haciendo su empresa para respetar los derechos de las personas LGBTIQ+?
END:VALARM
END:VEVENT
END:VCALENDAR
