BEGIN:VCALENDAR
PRODID:-//Red Pacto Global Argentina //NONSGML Events //EN
VERSION:2.0
BEGIN:VEVENT
DTSTAMP:20230824T012956Z
STATUS:CONFIRMED
UID:12032
DTSTART:20220809T103000
DTEND:20220809T120000
LOCATION:Virtual
DESCRIPTION:Segundo encuentro
SUMMARY:Grupo de trabajo: Economía Circular y ODS
TRANSP:OPAQUE
BEGIN:VALARM
ACTION:DISPLAY
DESCRIPTION:Grupo de trabajo: Economía Circular y ODS
END:VALARM
END:VEVENT
END:VCALENDAR
