BEGIN:VCALENDAR
PRODID:-//Red Pacto Global Argentina //NONSGML Events //EN
VERSION:2.0
BEGIN:VEVENT
DTSTAMP:20230824T013338Z
STATUS:CONFIRMED
UID:12037
DTSTART:20220906T103000
DTEND:20220906T120000
LOCATION:Virtual
DESCRIPTION:Cuarto encuentro - Webinar abierto
SUMMARY:Grupo de trabajo: Economía Circular y ODS
TRANSP:OPAQUE
BEGIN:VALARM
ACTION:DISPLAY
DESCRIPTION:Grupo de trabajo: Economía Circular y ODS
END:VALARM
END:VEVENT
END:VCALENDAR
