BEGIN:VCALENDAR
PRODID:-//Red Pacto Global Argentina //NONSGML Events //EN
VERSION:2.0
BEGIN:VEVENT
DTSTAMP:20230824T012739Z
STATUS:CONFIRMED
UID:12224
DTSTART:20220517T113000
DTEND:20220517T123000
LOCATION:Virtual
DESCRIPTION:Seamos protagonistas de la sostenibilidad corporativa <br />

SUMMARY:2do Webinar abierto: Empresas por un Mundo Mejor
TRANSP:OPAQUE
BEGIN:VALARM
ACTION:DISPLAY
DESCRIPTION:2do Webinar abierto: Empresas por un Mundo Mejor
END:VALARM
END:VEVENT
END:VCALENDAR
