BEGIN:VCALENDAR
PRODID:-//Red Pacto Global Argentina //NONSGML Events //EN
VERSION:2.0
BEGIN:VEVENT
DTSTAMP:20230824T013152Z
STATUS:CONFIRMED
UID:12231
DTSTART:20220526T150000
DTEND:20220526T163000
LOCATION:Virtual
DESCRIPTION:Este webinar marca el inicio de las actividades del grupo de trabajo “Cuidando el Clima” del Pacto Global Argentina con el apoyo del PNUD Argentina. Se trata de una actividad abierta a la comunidad empresarial con el objetivo de convocar a directivos empresariales para que dialoguen sobre las perspectivas y ventajas de la inclusión de la agenda climática en sus organizaciones; promover un mayor acercamiento a las experiencias que tiene el sector privado en la inclusión de acciones de reducción de emisiones de CO2 basados en la ciencia y su vinculación con la NDC del gobierno nacional.
SUMMARY:Webinar abierto «Organizaciones empresariales que Cuidan el Clima» – Lanzamiento del Grupo de Trabajo “Cuidando el Clima”
TRANSP:OPAQUE
BEGIN:VALARM
ACTION:DISPLAY
DESCRIPTION:Webinar abierto «Organizaciones empresariales que Cuidan el Clima» &#8211\; Lanzamiento del Grupo de Trabajo “Cuidando el Clima”
END:VALARM
END:VEVENT
END:VCALENDAR
