BEGIN:VCALENDAR
PRODID:-//Red Pacto Global Argentina //NONSGML Events //EN
VERSION:2.0
BEGIN:VEVENT
DTSTAMP:20230824T013416Z
STATUS:CONFIRMED
UID:12233
DTSTART:20220623T150000
DTEND:20220623T163000
LOCATION:Virtual
DESCRIPTION:Webinar cerrado para participantes del Grupo de trabajo Cuidando el Clima.<br />

SUMMARY:Webinar Camino a los Objetivos Basados en la Ciencia: como calcular la huella de carbono
TRANSP:OPAQUE
BEGIN:VALARM
ACTION:DISPLAY
DESCRIPTION:Webinar Camino a los Objetivos Basados en la Ciencia: como calcular la huella de carbono
END:VALARM
END:VEVENT
END:VCALENDAR
