BEGIN:VCALENDAR
PRODID:-//Red Pacto Global Argentina //NONSGML Events //EN
VERSION:2.0
BEGIN:VEVENT
DTSTAMP:20230824T012913Z
STATUS:CONFIRMED
UID:12235
DTSTART:20220804T150000
DTEND:20220804T163000
LOCATION:Virtual
DESCRIPTION:Webinar cerrado para participantes del Grupo de trabajo Cuidando el Clima.
SUMMARY:“Objetivos basados en la Ciencia  (SBT): casos inspiradores”
TRANSP:OPAQUE
BEGIN:VALARM
ACTION:DISPLAY
DESCRIPTION:“Objetivos basados en la Ciencia  (SBT): casos inspiradores”
END:VALARM
END:VEVENT
END:VCALENDAR
