BEGIN:VCALENDAR
PRODID:-//Red Pacto Global Argentina //NONSGML Events //EN
VERSION:2.0
BEGIN:VEVENT
DTSTAMP:20230824T012804Z
STATUS:CONFIRMED
UID:12237
DTSTART:20221006T150000
DTEND:20221006T163000
LOCATION:Virtual
DESCRIPTION:Webinar cerrado para participantes del Grupo de trabajo Cuidando el Clima.
SUMMARY:Webinar “Incentivos financieros para la Acción Climática”
TRANSP:OPAQUE
BEGIN:VALARM
ACTION:DISPLAY
DESCRIPTION:Webinar “Incentivos financieros para la Acción Climática”
END:VALARM
END:VEVENT
END:VCALENDAR
