BEGIN:VCALENDAR
PRODID:-//Red Pacto Global Argentina //NONSGML Events //EN
VERSION:2.0
BEGIN:VEVENT
DTSTAMP:20230824T012414Z
STATUS:CONFIRMED
UID:12241
DTSTART:20221212T113000
DTEND:20221212T123000
LOCATION:Virtual
DESCRIPTION:
SUMMARY:Webinar abierto: COP 27: La acción climática pasa al frente
TRANSP:OPAQUE
BEGIN:VALARM
ACTION:DISPLAY
DESCRIPTION:Webinar abierto: COP 27: La acción climática pasa al frente
END:VALARM
END:VEVENT
END:VCALENDAR
