BEGIN:VCALENDAR
PRODID:-//Red Pacto Global Argentina //NONSGML Events //EN
VERSION:2.0
BEGIN:VEVENT
DTSTAMP:20230824T013314Z
STATUS:CONFIRMED
UID:12384
DTSTART:20220531T150000
DTEND:20220531T160000
LOCATION:Virtual
DESCRIPTION:Es momento de pasar del compromiso a la acción. Es momento de desafiarse y establecer objetivos corporativos más ambiciosos en torno a la igualdad de género.
SUMMARY:Sesión informativa del Programa Acelerador Target Gender Equality
TRANSP:OPAQUE
BEGIN:VALARM
ACTION:DISPLAY
DESCRIPTION:Sesión informativa del Programa Acelerador Target Gender Equality
END:VALARM
END:VEVENT
END:VCALENDAR
