BEGIN:VCALENDAR
PRODID:-//Red Pacto Global Argentina //NONSGML Events //EN
VERSION:2.0
BEGIN:VEVENT
DTSTAMP:20230824T012939Z
STATUS:CONFIRMED
UID:12526
DTSTART:20220628T100000
DTEND:20220628T110000
LOCATION:Virtual
DESCRIPTION:Primer webinar abierto de Economía Circular en el que abordaremos la integración de la economía circular en la estrategia de sostenibilidad corporativa; casos reales de economía circular y su aporte a los ODS y políticas públicas para promover la economía circular.
SUMMARY:Primer webinar abierto «Estado del arte de la Economía Circular en nuestro país»
TRANSP:OPAQUE
BEGIN:VALARM
ACTION:DISPLAY
DESCRIPTION:Primer webinar abierto «Estado del arte de la Economía Circular en nuestro país»
END:VALARM
END:VEVENT
END:VCALENDAR
