BEGIN:VCALENDAR
PRODID:-//Red Pacto Global Argentina //NONSGML Events //EN
VERSION:2.0
BEGIN:VEVENT
DTSTAMP:20230824T012908Z
STATUS:CONFIRMED
UID:12644
DTSTART:20220623T100000
DTEND:20220623T110000
LOCATION:Virtual
DESCRIPTION:Diálogo abierto sobre tendencias con actores clave del ecosistema del reporte ESG.
SUMMARY:Primer Webinar 2022: ¿Cuál es el futuro del reporte de sostenibilidad corporativa?
TRANSP:OPAQUE
BEGIN:VALARM
ACTION:DISPLAY
DESCRIPTION:Primer Webinar 2022: ¿Cuál es el futuro del reporte de sostenibilidad corporativa?
END:VALARM
END:VEVENT
END:VCALENDAR
