BEGIN:VCALENDAR
PRODID:-//Red Pacto Global Argentina //NONSGML Events //EN
VERSION:2.0
BEGIN:VEVENT
DTSTAMP:20230824T012846Z
STATUS:CONFIRMED
UID:12850
DTSTART:20220713T113000
DTEND:20220713T123000
LOCATION:Virtual
DESCRIPTION:SBTi: informe y discusión<br />

SUMMARY:Sesión facilitada Acelerador de Ambición Climática GRUPO A
TRANSP:OPAQUE
BEGIN:VALARM
ACTION:DISPLAY
DESCRIPTION:Sesión facilitada Acelerador de Ambición Climática GRUPO A
END:VALARM
END:VEVENT
END:VCALENDAR
