BEGIN:VCALENDAR
PRODID:-//Red Pacto Global Argentina //NONSGML Events //EN
VERSION:2.0
BEGIN:VEVENT
DTSTAMP:20230824T013027Z
STATUS:CONFIRMED
UID:12854
DTSTART:20220714T113000
DTEND:20220714T123000
LOCATION:Virtual
DESCRIPTION:SBTi: informe y discusión<br />

SUMMARY:Sesión facilitada Acelerador de Ambición Climática GRUPO B
TRANSP:OPAQUE
BEGIN:VALARM
ACTION:DISPLAY
DESCRIPTION:Sesión facilitada Acelerador de Ambición Climática GRUPO B
END:VALARM
END:VEVENT
END:VCALENDAR
