BEGIN:VCALENDAR
PRODID:-//Red Pacto Global Argentina //NONSGML Events //EN
VERSION:2.0
BEGIN:VEVENT
DTSTAMP:20230824T013351Z
STATUS:CONFIRMED
UID:12858
DTSTART:20220825T113000
DTEND:20220825T123000
LOCATION:Virtual
DESCRIPTION:Ejercicios prácticos de GEI
SUMMARY:Sesión facilitada Acelerador de Ambición Climática GRUPO B
TRANSP:OPAQUE
BEGIN:VALARM
ACTION:DISPLAY
DESCRIPTION:Sesión facilitada Acelerador de Ambición Climática GRUPO B
END:VALARM
END:VEVENT
END:VCALENDAR
