BEGIN:VCALENDAR
PRODID:-//Red Pacto Global Argentina //NONSGML Events //EN
VERSION:2.0
BEGIN:VEVENT
DTSTAMP:20230824T013217Z
STATUS:CONFIRMED
UID:12860
DTSTART:20220816T100000
DTEND:20220816T110000
LOCATION:Virtual
DESCRIPTION:Ejercicios prácticos de SBTi<br />
<br />

SUMMARY:Sesión facilitada Acelerador de Ambición Climática Grupos A y B
TRANSP:OPAQUE
BEGIN:VALARM
ACTION:DISPLAY
DESCRIPTION:Sesión facilitada Acelerador de Ambición Climática Grupos A y B
END:VALARM
END:VEVENT
END:VCALENDAR
