BEGIN:VCALENDAR
PRODID:-//Red Pacto Global Argentina //NONSGML Events //EN
VERSION:2.0
BEGIN:VEVENT
DTSTAMP:20230824T013009Z
STATUS:CONFIRMED
UID:12862
DTSTART:20221019T113000
DTEND:20221019T123000
LOCATION:Virtual
DESCRIPTION:Emisiones Alcance 3: Actividades de Gestión, Medición y Reducción<br />
<br />

SUMMARY:Sesión facilitada Acelerador de Ambición Climática GRUPO A
TRANSP:OPAQUE
BEGIN:VALARM
ACTION:DISPLAY
DESCRIPTION:Sesión facilitada Acelerador de Ambición Climática GRUPO A
END:VALARM
END:VEVENT
END:VCALENDAR
