BEGIN:VCALENDAR
PRODID:-//Red Pacto Global Argentina //NONSGML Events //EN
VERSION:2.0
BEGIN:VEVENT
DTSTAMP:20230824T013321Z
STATUS:CONFIRMED
UID:12864
DTSTART:20221018T113000
DTEND:20221018T123000
LOCATION:Virtual
DESCRIPTION:Emisiones Alcance 3: Actividades de Gestión, Medición y Reducción<br />

SUMMARY:Sesión facilitada Acelerador de Ambición Climática GRUPO B
TRANSP:OPAQUE
BEGIN:VALARM
ACTION:DISPLAY
DESCRIPTION:Sesión facilitada Acelerador de Ambición Climática GRUPO B
END:VALARM
END:VEVENT
END:VCALENDAR
