BEGIN:VCALENDAR
PRODID:-//Red Pacto Global Argentina //NONSGML Events //EN
VERSION:2.0
BEGIN:VEVENT
DTSTAMP:20230824T013042Z
STATUS:CONFIRMED
UID:12889
DTSTART:20220707T103000
DTEND:20220707T120000
LOCATION:Virtual
DESCRIPTION:Sesión de bienvenida e Introducción a la Herramienta Empresarial de Género WEP
SUMMARY:Sesión Facilitada Acelerador Target Gender Equality
TRANSP:OPAQUE
BEGIN:VALARM
ACTION:DISPLAY
DESCRIPTION:Sesión Facilitada Acelerador Target Gender Equality
END:VALARM
END:VEVENT
END:VCALENDAR
