BEGIN:VCALENDAR
PRODID:-//Red Pacto Global Argentina //NONSGML Events //EN
VERSION:2.0
BEGIN:VEVENT
DTSTAMP:20230824T012914Z
STATUS:CONFIRMED
UID:12891
DTSTART:20220824T103000
DTEND:20220824T120000
LOCATION:Virtual
DESCRIPTION:Análisis de desempeño: resultados y reflexiones
SUMMARY:Sesión Facilitada Acelerador Target Gender Equality
TRANSP:OPAQUE
BEGIN:VALARM
ACTION:DISPLAY
DESCRIPTION:Sesión Facilitada Acelerador Target Gender Equality
END:VALARM
END:VEVENT
END:VCALENDAR
