BEGIN:VCALENDAR
PRODID:-//Red Pacto Global Argentina //NONSGML Events //EN
VERSION:2.0
BEGIN:VEVENT
DTSTAMP:20230824T012849Z
STATUS:CONFIRMED
UID:12893
DTSTART:20220907T100000
DTEND:20220907T120000
LOCATION:Virtual
DESCRIPTION:Taller del Módulo 1: Establecimiento de metas y cómo definir la ambición
SUMMARY:Sesión Facilitada Acelerador Target Gender Equality
TRANSP:OPAQUE
BEGIN:VALARM
ACTION:DISPLAY
DESCRIPTION:Sesión Facilitada Acelerador Target Gender Equality
END:VALARM
END:VEVENT
END:VCALENDAR
