BEGIN:VCALENDAR
PRODID:-//Red Pacto Global Argentina //NONSGML Events //EN
VERSION:2.0
BEGIN:VEVENT
DTSTAMP:20230824T013112Z
STATUS:CONFIRMED
UID:12895
DTSTART:20221005T100000
DTEND:20221005T120000
LOCATION:Virtual
DESCRIPTION:Taller del Módulo 2: Estrategias para el éxito
SUMMARY:Sesión Facilitada Acelerador Target Gender Equality
TRANSP:OPAQUE
BEGIN:VALARM
ACTION:DISPLAY
DESCRIPTION:Sesión Facilitada Acelerador Target Gender Equality
END:VALARM
END:VEVENT
END:VCALENDAR
