BEGIN:VCALENDAR
PRODID:-//Red Pacto Global Argentina //NONSGML Events //EN
VERSION:2.0
BEGIN:VEVENT
DTSTAMP:20230824T012952Z
STATUS:CONFIRMED
UID:12897
DTSTART:20221102T100000
DTEND:20221102T120000
LOCATION:Virtual
DESCRIPTION:Taller del Módulo 3: Medir el Progreso
SUMMARY:Sesión facilitada Acelerador Target Gender Equality
TRANSP:OPAQUE
BEGIN:VALARM
ACTION:DISPLAY
DESCRIPTION:Sesión facilitada Acelerador Target Gender Equality
END:VALARM
END:VEVENT
END:VCALENDAR
