BEGIN:VCALENDAR
PRODID:-//Red Pacto Global Argentina //NONSGML Events //EN
VERSION:2.0
BEGIN:VEVENT
DTSTAMP:20230824T012825Z
STATUS:CONFIRMED
UID:12972
DTSTART:20220719T103000
DTEND:20220719T120000
LOCATION:Virtual
DESCRIPTION:Módulo I: Conceptos básicos de anticorrupción
SUMMARY:Primera Sesión Pasaporte a la Integridad
TRANSP:OPAQUE
BEGIN:VALARM
ACTION:DISPLAY
DESCRIPTION:Primera Sesión Pasaporte a la Integridad
END:VALARM
END:VEVENT
END:VCALENDAR
