BEGIN:VCALENDAR
PRODID:-//Red Pacto Global Argentina //NONSGML Events //EN
VERSION:2.0
BEGIN:VEVENT
DTSTAMP:20230824T012908Z
STATUS:CONFIRMED
UID:12975
DTSTART:20220721T103000
DTEND:20220721T120000
LOCATION:Virtual
DESCRIPTION:Módulo II: Medidas internas para prevenir corrupción y análisis de riesgos (parte 1)
SUMMARY:Segunda Sesión Pasaporte a la Integridad
TRANSP:OPAQUE
BEGIN:VALARM
ACTION:DISPLAY
DESCRIPTION:Segunda Sesión Pasaporte a la Integridad
END:VALARM
END:VEVENT
END:VCALENDAR
