BEGIN:VCALENDAR
PRODID:-//Red Pacto Global Argentina //NONSGML Events //EN
VERSION:2.0
BEGIN:VEVENT
DTSTAMP:20230824T013312Z
STATUS:CONFIRMED
UID:12977
DTSTART:20220726T103000
DTEND:20220726T120000
LOCATION:Virtual
DESCRIPTION:Módulo III: Medidas internas para prevenir la corrupción y análisis de riesgos & Sanciones e incentivos
SUMMARY:Tercera Sesión Pasaporte a la Integridad
TRANSP:OPAQUE
BEGIN:VALARM
ACTION:DISPLAY
DESCRIPTION:Tercera Sesión Pasaporte a la Integridad
END:VALARM
END:VEVENT
END:VCALENDAR
