BEGIN:VCALENDAR
PRODID:-//Red Pacto Global Argentina //NONSGML Events //EN
VERSION:2.0
BEGIN:VEVENT
DTSTAMP:20230824T012905Z
STATUS:CONFIRMED
UID:12979
DTSTART:20220728T103000
DTEND:20220728T123000
LOCATION:Virtual
DESCRIPTION:Módulo IV: Medidas externas para prevenir la corrupción
SUMMARY:Cuarta Sesión Pasaporte a la Integridad
TRANSP:OPAQUE
BEGIN:VALARM
ACTION:DISPLAY
DESCRIPTION:Cuarta Sesión Pasaporte a la Integridad
END:VALARM
END:VEVENT
END:VCALENDAR
