BEGIN:VCALENDAR
PRODID:-//Red Pacto Global Argentina //NONSGML Events //EN
VERSION:2.0
BEGIN:VEVENT
DTSTAMP:20230824T013111Z
STATUS:CONFIRMED
UID:13076
DTSTART:20220804T100000
DTEND:20220804T110000
LOCATION:Virtual
DESCRIPTION:Tercer webinario del ciclo \"Empresas por un Mundo Mejor\" en donde podrás conocer la propuesta de valor que la Red Argentina del Pacto Global de Naciones Unidas ofrece a sus organizaciones participantes.
SUMMARY:Webinar abierto «Seamos arquitectos del futuro sostenible que queremos: Unite a Pacto Global Argentina»
TRANSP:OPAQUE
BEGIN:VALARM
ACTION:DISPLAY
DESCRIPTION:Webinar abierto «Seamos arquitectos del futuro sostenible que queremos: Unite a Pacto Global Argentina»
END:VALARM
END:VEVENT
END:VCALENDAR
