BEGIN:VCALENDAR
PRODID:-//Red Pacto Global Argentina //NONSGML Events //EN
VERSION:2.0
BEGIN:VEVENT
DTSTAMP:20230824T013122Z
STATUS:CONFIRMED
UID:13104
DTSTART:20220805T090000
DTEND:20220805T000000
LOCATION:Entre Ríos
DESCRIPTION:El mundo ingresó hace dos años en un proceso de cambio acelerado. Un cambio que afecta desde la crisis climática hasta la relación entre la vida laboral y privada, pasando por la disrupción en la tecnología y el empleo. Sobre estos ejes girará el programa del XV Foro Anual del Consejo Empresario de Entre Ríos (CEER).
SUMMARY:Foro Anual Entre Ríos 2030
TRANSP:OPAQUE
BEGIN:VALARM
ACTION:DISPLAY
DESCRIPTION:Foro Anual Entre Ríos 2030
END:VALARM
END:VEVENT
END:VCALENDAR
