BEGIN:VCALENDAR
PRODID:-//Red Pacto Global Argentina //NONSGML Events //EN
VERSION:2.0
BEGIN:VEVENT
DTSTAMP:20230824T013228Z
STATUS:CONFIRMED
UID:13236
DTSTART:20220826T100000
DTEND:20220826T190000
LOCATION:Virtual
DESCRIPTION:El Segundo Encuentro Regional Latinoamericano de Moda Sostenible es un espacio de diálogo e intercambio de experiencias, liderado por las Redes del Pacto Global de Argentina y Colombia, que permite reunir a actores que trabajan en Latinoamérica en proyectos relacionados con la sostenibilidad en la moda.
SUMMARY:Pacto Global Argentina y Pacto Global Colombia invitan al Segundo Encuentro Regional Latinoamericano de Moda Sostenible
TRANSP:OPAQUE
BEGIN:VALARM
ACTION:DISPLAY
DESCRIPTION:Pacto Global Argentina y Pacto Global Colombia invitan al Segundo Encuentro Regional Latinoamericano de Moda Sostenible
END:VALARM
END:VEVENT
END:VCALENDAR
