BEGIN:VCALENDAR
PRODID:-//Red Pacto Global Argentina //NONSGML Events //EN
VERSION:2.0
BEGIN:VEVENT
DTSTAMP:20230824T012817Z
STATUS:CONFIRMED
UID:13438
DTSTART:20220920T103000
DTEND:20220920T123000
LOCATION:Virtual
DESCRIPTION:Reunión de trabajo cerrada para empresas participantes.
SUMMARY:Primer encuentro del Grupo de Trabajo Sostenibilidad en la Cadena de Valor
TRANSP:OPAQUE
BEGIN:VALARM
ACTION:DISPLAY
DESCRIPTION:Primer encuentro del Grupo de Trabajo Sostenibilidad en la Cadena de Valor
END:VALARM
END:VEVENT
END:VCALENDAR
