BEGIN:VCALENDAR
PRODID:-//Red Pacto Global Argentina //NONSGML Events //EN
VERSION:2.0
BEGIN:VEVENT
DTSTAMP:20230824T012843Z
STATUS:CONFIRMED
UID:13448
DTSTART:20221004T103000
DTEND:20221004T123000
LOCATION:Virtual
DESCRIPTION:Webinar abierto con ponentes invitados
SUMMARY:Segundo encuentro del Grupo de Trabajo Sostenibilidad en la Cadena de Valor
TRANSP:OPAQUE
BEGIN:VALARM
ACTION:DISPLAY
DESCRIPTION:Segundo encuentro del Grupo de Trabajo Sostenibilidad en la Cadena de Valor
END:VALARM
END:VEVENT
END:VCALENDAR
