BEGIN:VCALENDAR
PRODID:-//Red Pacto Global Argentina //NONSGML Events //EN
VERSION:2.0
BEGIN:VEVENT
DTSTAMP:20230824T013344Z
STATUS:CONFIRMED
UID:13451
DTSTART:20221025T103000
DTEND:20221025T123000
LOCATION:Virtual
DESCRIPTION:Reunión de trabajo cerrada para empresas participantes.
SUMMARY:Tercer encuentro del Grupo de Trabajo Sostenibilidad en la Cadena de Valor
TRANSP:OPAQUE
BEGIN:VALARM
ACTION:DISPLAY
DESCRIPTION:Tercer encuentro del Grupo de Trabajo Sostenibilidad en la Cadena de Valor
END:VALARM
END:VEVENT
END:VCALENDAR
